BEGIN:VCALENDAR
VERSION:2.0
PRODID:-//Jousiammuntaseura Robin Hood - ECPv5.14.1//NONSGML v1.0//EN
CALSCALE:GREGORIAN
METHOD:PUBLISH
X-WR-CALNAME:Jousiammuntaseura Robin Hood
X-ORIGINAL-URL:https://hood-espoo.fi
X-WR-CALDESC:Tapahtumat Jousiammuntaseura Robin Hood
BEGIN:VTIMEZONE
TZID:Europe/Helsinki
BEGIN:DAYLIGHT
TZOFFSETFROM:+0200
TZOFFSETTO:+0300
TZNAME:EEST
DTSTART:20140330T010000
END:DAYLIGHT
BEGIN:STANDARD
TZOFFSETFROM:+0300
TZOFFSETTO:+0200
TZNAME:EET
DTSTART:20141026T010000
END:STANDARD
END:VTIMEZONE
BEGIN:VEVENT
DTSTART;VALUE=DATE:20140301
DTEND;VALUE=DATE:20140303
DTSTAMP:20260421T131346
CREATED:20140113T102614Z
LAST-MODIFIED:20140113T102854Z
UID:2595-1393632000-1393804799@hood-espoo.fi
SUMMARY:1.3.-2.3. Ei vuoroja
DESCRIPTION:1.3.-2.3. Ei vuoroja Takadon järjestämän valtakunnallisen kyodoleirin vuoksi.
URL:https://hood-espoo.fi/event/1-3-2-3-ei-vuoroja/
END:VEVENT
END:VCALENDAR