BEGIN:VCALENDAR
VERSION:2.0
PRODID:-//Jousiammuntaseura Robin Hood - ECPv5.14.1//NONSGML v1.0//EN
CALSCALE:GREGORIAN
METHOD:PUBLISH
X-WR-CALNAME:Jousiammuntaseura Robin Hood
X-ORIGINAL-URL:https://hood-espoo.fi
X-WR-CALDESC:Tapahtumat Jousiammuntaseura Robin Hood
BEGIN:VTIMEZONE
TZID:Europe/Helsinki
BEGIN:DAYLIGHT
TZOFFSETFROM:+0200
TZOFFSETTO:+0300
TZNAME:EEST
DTSTART:20170326T010000
END:DAYLIGHT
BEGIN:STANDARD
TZOFFSETFROM:+0300
TZOFFSETTO:+0200
TZNAME:EET
DTSTART:20171029T010000
END:STANDARD
END:VTIMEZONE
BEGIN:VEVENT
DTSTART;TZID=Europe/Helsinki:20171110T180000
DTEND;TZID=Europe/Helsinki:20171110T200000
DTSTAMP:20260423T070526
CREATED:20171010T085758Z
LAST-MODIFIED:20171010T085758Z
UID:5528-1510336800-1510344000@hood-espoo.fi
SUMMARY:10.11. Kisatalkoot 18:00-20:00
DESCRIPTION:10.11. pidetään lauantain kisaa varten talkoot 18:00-20:00. Jos talkoot saadaan valmiiksi ennen vuoron loppua\, voi hallissa harjoitella.
URL:https://hood-espoo.fi/event/10-11-kisatalkoot-1800-2000/
CATEGORIES:Kilpailut,Talkoot,Vuoropoikkeus
END:VEVENT
END:VCALENDAR