BEGIN:VCALENDAR
VERSION:2.0
PRODID:-//Jousiammuntaseura Robin Hood - ECPv5.14.1//NONSGML v1.0//EN
CALSCALE:GREGORIAN
METHOD:PUBLISH
X-WR-CALNAME:Jousiammuntaseura Robin Hood
X-ORIGINAL-URL:https://hood-espoo.fi
X-WR-CALDESC:Tapahtumat Jousiammuntaseura Robin Hood
BEGIN:VTIMEZONE
TZID:Europe/Helsinki
BEGIN:DAYLIGHT
TZOFFSETFROM:+0200
TZOFFSETTO:+0300
TZNAME:EEST
DTSTART:20140330T010000
END:DAYLIGHT
BEGIN:STANDARD
TZOFFSETFROM:+0300
TZOFFSETTO:+0200
TZNAME:EET
DTSTART:20141026T010000
END:STANDARD
END:VTIMEZONE
BEGIN:VEVENT
DTSTART;VALUE=DATE:20140513
DTEND;VALUE=DATE:20140514
DTSTAMP:20260422T114949
CREATED:20140429T121254Z
LAST-MODIFIED:20140429T121254Z
UID:2791-1399939200-1400025599@hood-espoo.fi
SUMMARY:13.5. Viimeinen alkeisvuoro sisällä
DESCRIPTION:13.5. viimeinen alkeisvuoro sisällä\, välineet siirretään tämän jälkeen Ruskeasuolle.
URL:https://hood-espoo.fi/event/13-5-viimeinen-alkeisvuoro-sisalla/
CATEGORIES:Vuoropoikkeus
END:VEVENT
END:VCALENDAR