BEGIN:VCALENDAR
VERSION:2.0
PRODID:-//Jousiammuntaseura Robin Hood - ECPv5.14.1//NONSGML v1.0//EN
CALSCALE:GREGORIAN
METHOD:PUBLISH
X-WR-CALNAME:Jousiammuntaseura Robin Hood
X-ORIGINAL-URL:https://hood-espoo.fi
X-WR-CALDESC:Tapahtumat Jousiammuntaseura Robin Hood
BEGIN:VTIMEZONE
TZID:Europe/Helsinki
BEGIN:DAYLIGHT
TZOFFSETFROM:+0200
TZOFFSETTO:+0300
TZNAME:EEST
DTSTART:20150329T010000
END:DAYLIGHT
BEGIN:STANDARD
TZOFFSETFROM:+0300
TZOFFSETTO:+0200
TZNAME:EET
DTSTART:20151025T010000
END:STANDARD
END:VTIMEZONE
BEGIN:VEVENT
DTSTART;TZID=Europe/Helsinki:20150516T130000
DTEND;TZID=Europe/Helsinki:20150516T150000
DTSTAMP:20260419T152453
CREATED:20150516T071217Z
LAST-MODIFIED:20150516T071227Z
UID:3237-1431781200-1431788400@hood-espoo.fi
SUMMARY:16.5. Viimeinen jäsenistön alkeisvuoro sisällä
DESCRIPTION:16.5. on viimeinen jäsenistön alkeisvuoro sisällä\, tiistaista eteenpäin alkeistoiminta siirtyy Ruskeasuolle.
URL:https://hood-espoo.fi/event/16-5-viimeinen-jaseniston-alkeisvuoro-sisalla/
LOCATION:Tuulimäki\, Tapiola\, Itätuulenkuja 9\, Espoo\, 02100\, Suomi
END:VEVENT
END:VCALENDAR