BEGIN:VCALENDAR
VERSION:2.0
PRODID:-//Jousiammuntaseura Robin Hood - ECPv5.14.1//NONSGML v1.0//EN
CALSCALE:GREGORIAN
METHOD:PUBLISH
X-WR-CALNAME:Jousiammuntaseura Robin Hood
X-ORIGINAL-URL:https://hood-espoo.fi
X-WR-CALDESC:Tapahtumat Jousiammuntaseura Robin Hood
BEGIN:VTIMEZONE
TZID:Europe/Helsinki
BEGIN:DAYLIGHT
TZOFFSETFROM:+0200
TZOFFSETTO:+0300
TZNAME:EEST
DTSTART:20170326T010000
END:DAYLIGHT
BEGIN:STANDARD
TZOFFSETFROM:+0300
TZOFFSETTO:+0200
TZNAME:EET
DTSTART:20171029T010000
END:STANDARD
END:VTIMEZONE
BEGIN:VEVENT
DTSTART;TZID=Europe/Helsinki:20170319T110000
DTEND;TZID=Europe/Helsinki:20170319T130000
DTSTAMP:20260423T180658
CREATED:20170316T144314Z
LAST-MODIFIED:20170316T144417Z
UID:5053-1489921200-1489928400@hood-espoo.fi
SUMMARY:19.3. Korvaava alkeisvuoro kello 11-13
DESCRIPTION:Sunnuntaina 19.3. kello 11-13 järjestetään korvaava alkeisvuoro lauantaivuoron tilalle.
URL:https://hood-espoo.fi/event/19-3-korvaava-alkeisvuoro-kello-11-13/
CATEGORIES:Etusivu,Hood,Vuoropoikkeus
END:VEVENT
END:VCALENDAR