BEGIN:VCALENDAR
VERSION:2.0
PRODID:-//Jousiammuntaseura Robin Hood - ECPv5.14.1//NONSGML v1.0//EN
CALSCALE:GREGORIAN
METHOD:PUBLISH
X-WR-CALNAME:Jousiammuntaseura Robin Hood
X-ORIGINAL-URL:https://hood-espoo.fi
X-WR-CALDESC:Tapahtumat Jousiammuntaseura Robin Hood
BEGIN:VTIMEZONE
TZID:Europe/Helsinki
BEGIN:DAYLIGHT
TZOFFSETFROM:+0200
TZOFFSETTO:+0300
TZNAME:EEST
DTSTART:20130331T010000
END:DAYLIGHT
BEGIN:STANDARD
TZOFFSETFROM:+0300
TZOFFSETTO:+0200
TZNAME:EET
DTSTART:20131027T010000
END:STANDARD
END:VTIMEZONE
BEGIN:VEVENT
DTSTART;VALUE=DATE:20131102
DTEND;VALUE=DATE:20131103
DTSTAMP:20260421T114708
CREATED:20131018T105147Z
LAST-MODIFIED:20131018T105147Z
UID:2412-1383350400-1383436799@hood-espoo.fi
SUMMARY:2.11. Ei Hallivuoroa (ESF:n kisat)
DESCRIPTION:Lauantaina 2.11. ei ole hallivuoroa (ESF:n kisat).
URL:https://hood-espoo.fi/event/2-11-ei-hallivuoroa-esfn-kisat/
CATEGORIES:Vuoropoikkeus
END:VEVENT
END:VCALENDAR