BEGIN:VCALENDAR
VERSION:2.0
PRODID:-//Jousiammuntaseura Robin Hood - ECPv5.14.1//NONSGML v1.0//EN
CALSCALE:GREGORIAN
METHOD:PUBLISH
X-WR-CALNAME:Jousiammuntaseura Robin Hood
X-ORIGINAL-URL:https://hood-espoo.fi
X-WR-CALDESC:Tapahtumat Jousiammuntaseura Robin Hood
BEGIN:VTIMEZONE
TZID:Europe/Helsinki
BEGIN:DAYLIGHT
TZOFFSETFROM:+0200
TZOFFSETTO:+0300
TZNAME:EEST
DTSTART:20170326T010000
END:DAYLIGHT
BEGIN:STANDARD
TZOFFSETFROM:+0300
TZOFFSETTO:+0200
TZNAME:EET
DTSTART:20171029T010000
END:STANDARD
END:VTIMEZONE
BEGIN:VEVENT
DTSTART;TZID=Europe/Helsinki:20171022T133000
DTEND;TZID=Europe/Helsinki:20171022T170000
DTSTAMP:20260423T121202
CREATED:20171010T090144Z
LAST-MODIFIED:20171010T090211Z
UID:5536-1508679000-1508691600@hood-espoo.fi
SUMMARY:22.10. Divarikisa
DESCRIPTION:22.10. järjestetään syksyn ensimmäinen divari-kisa.
URL:https://hood-espoo.fi/event/22-10-divarikisa/
CATEGORIES:Kilpailut
END:VEVENT
END:VCALENDAR