BEGIN:VCALENDAR
VERSION:2.0
PRODID:-//Jousiammuntaseura Robin Hood - ECPv5.14.1//NONSGML v1.0//EN
CALSCALE:GREGORIAN
METHOD:PUBLISH
X-WR-CALNAME:Jousiammuntaseura Robin Hood
X-ORIGINAL-URL:https://hood-espoo.fi
X-WR-CALDESC:Tapahtumat Jousiammuntaseura Robin Hood
BEGIN:VTIMEZONE
TZID:Europe/Helsinki
BEGIN:DAYLIGHT
TZOFFSETFROM:+0200
TZOFFSETTO:+0300
TZNAME:EEST
DTSTART:20140330T010000
END:DAYLIGHT
BEGIN:STANDARD
TZOFFSETFROM:+0300
TZOFFSETTO:+0200
TZNAME:EET
DTSTART:20141026T010000
END:STANDARD
END:VTIMEZONE
BEGIN:VEVENT
DTSTART;VALUE=DATE:20141025
DTEND;VALUE=DATE:20141027
DTSTAMP:20260423T012227
CREATED:20140916T125957Z
LAST-MODIFIED:20140922T183225Z
UID:2881-1414195200-1414367999@hood-espoo.fi
SUMMARY:25.10.-26.10. Ei vuoroa
DESCRIPTION:25.10.-26.10. Vuorot peruttu Takadon leirin takia.
URL:https://hood-espoo.fi/event/25-10-26-10-ei-vuoroa/
CATEGORIES:Vuoropoikkeus
END:VEVENT
END:VCALENDAR