BEGIN:VCALENDAR
VERSION:2.0
PRODID:-//Jousiammuntaseura Robin Hood - ECPv5.14.1//NONSGML v1.0//EN
CALSCALE:GREGORIAN
METHOD:PUBLISH
X-WR-CALNAME:Jousiammuntaseura Robin Hood
X-ORIGINAL-URL:https://hood-espoo.fi
X-WR-CALDESC:Tapahtumat Jousiammuntaseura Robin Hood
BEGIN:VTIMEZONE
TZID:Europe/Helsinki
BEGIN:DAYLIGHT
TZOFFSETFROM:+0200
TZOFFSETTO:+0300
TZNAME:EEST
DTSTART:20170326T010000
END:DAYLIGHT
BEGIN:STANDARD
TZOFFSETFROM:+0300
TZOFFSETTO:+0200
TZNAME:EET
DTSTART:20171029T010000
END:STANDARD
END:VTIMEZONE
BEGIN:VEVENT
DTSTART;VALUE=DATE:20171029
DTEND;VALUE=DATE:20171030
DTSTAMP:20260423T102929
CREATED:20171010T085546Z
LAST-MODIFIED:20171010T085618Z
UID:5525-1509235200-1509321599@hood-espoo.fi
SUMMARY:29.10. Ei vuoroa
DESCRIPTION:29.10. Ei ole vuoroa EsTT:n kisan takia.
URL:https://hood-espoo.fi/event/29-10-ei-vuoroa/
CATEGORIES:Vuoropoikkeus
END:VEVENT
END:VCALENDAR