BEGIN:VCALENDAR
VERSION:2.0
PRODID:-//Jousiammuntaseura Robin Hood - ECPv5.14.1//NONSGML v1.0//EN
CALSCALE:GREGORIAN
METHOD:PUBLISH
X-WR-CALNAME:Jousiammuntaseura Robin Hood
X-ORIGINAL-URL:https://hood-espoo.fi
X-WR-CALDESC:Tapahtumat Jousiammuntaseura Robin Hood
BEGIN:VTIMEZONE
TZID:Europe/Helsinki
BEGIN:DAYLIGHT
TZOFFSETFROM:+0200
TZOFFSETTO:+0300
TZNAME:EEST
DTSTART:20130331T010000
END:DAYLIGHT
BEGIN:STANDARD
TZOFFSETFROM:+0300
TZOFFSETTO:+0200
TZNAME:EET
DTSTART:20131027T010000
END:STANDARD
END:VTIMEZONE
BEGIN:VEVENT
DTSTART;VALUE=DATE:20130929
DTEND;VALUE=DATE:20130930
DTSTAMP:20260421T175129
CREATED:20130926T062251Z
LAST-MODIFIED:20130927T060941Z
UID:2380-1380412800-1380499199@hood-espoo.fi
SUMMARY:29.9. Suunnistuskilpailu Oittaalla
DESCRIPTION:29.9. Espoon Suunto järjestää mestaruuskisansa Kellonummen alueella klo 14-17 ja rata on osin maastoradan alueella. Oittaan maastoradalla ei tänä aikana saa ampua.
URL:https://hood-espoo.fi/event/29-9-suunnistuskilpailu-oittaalla/
CATEGORIES:Etusivu,Vuoropoikkeus
END:VEVENT
END:VCALENDAR