BEGIN:VCALENDAR
VERSION:2.0
PRODID:-//Jousiammuntaseura Robin Hood - ECPv5.14.1//NONSGML v1.0//EN
CALSCALE:GREGORIAN
METHOD:PUBLISH
X-WR-CALNAME:Jousiammuntaseura Robin Hood
X-ORIGINAL-URL:https://hood-espoo.fi
X-WR-CALDESC:Tapahtumat Jousiammuntaseura Robin Hood
BEGIN:VTIMEZONE
TZID:Europe/Helsinki
BEGIN:DAYLIGHT
TZOFFSETFROM:+0200
TZOFFSETTO:+0300
TZNAME:EEST
DTSTART:20150329T010000
END:DAYLIGHT
BEGIN:STANDARD
TZOFFSETFROM:+0300
TZOFFSETTO:+0200
TZNAME:EET
DTSTART:20151025T010000
END:STANDARD
END:VTIMEZONE
BEGIN:VEVENT
DTSTART;VALUE=DATE:20150501
DTEND;VALUE=DATE:20150502
DTSTAMP:20260421T144605
CREATED:20141221T223107Z
LAST-MODIFIED:20150428T135856Z
UID:3033-1430438400-1430524799@hood-espoo.fi
SUMMARY:1.5. Ei vuoroja
DESCRIPTION:1.5. Ei vuoroa. Hyvää vappua!
URL:https://hood-espoo.fi/event/30-4-1-5-ei-vuoroja/
CATEGORIES:Vuoropoikkeus
END:VEVENT
END:VCALENDAR