BEGIN:VCALENDAR
VERSION:2.0
PRODID:-//Jousiammuntaseura Robin Hood - ECPv5.14.1//NONSGML v1.0//EN
CALSCALE:GREGORIAN
METHOD:PUBLISH
X-WR-CALNAME:Jousiammuntaseura Robin Hood
X-ORIGINAL-URL:https://hood-espoo.fi
X-WR-CALDESC:Tapahtumat Jousiammuntaseura Robin Hood
BEGIN:VTIMEZONE
TZID:Europe/Helsinki
BEGIN:DAYLIGHT
TZOFFSETFROM:+0200
TZOFFSETTO:+0300
TZNAME:EEST
DTSTART:20140330T010000
END:DAYLIGHT
BEGIN:STANDARD
TZOFFSETFROM:+0300
TZOFFSETTO:+0200
TZNAME:EET
DTSTART:20141026T010000
END:STANDARD
END:VTIMEZONE
BEGIN:VEVENT
DTSTART;VALUE=DATE:20141231
DTEND;VALUE=DATE:20150101
DTSTAMP:20260422T112100
CREATED:20141221T222632Z
LAST-MODIFIED:20141221T222632Z
UID:3029-1419984000-1420070399@hood-espoo.fi
SUMMARY:31.12. Ei vuoroa.
DESCRIPTION:31.12. ei ole vuoroa. Hyvää uutta vuotta!
URL:https://hood-espoo.fi/event/31-12-ei-vuoroa/
CATEGORIES:Vuoropoikkeus
END:VEVENT
END:VCALENDAR