BEGIN:VCALENDAR
VERSION:2.0
PRODID:-//Jousiammuntaseura Robin Hood - ECPv5.14.1//NONSGML v1.0//EN
CALSCALE:GREGORIAN
METHOD:PUBLISH
X-WR-CALNAME:Jousiammuntaseura Robin Hood
X-ORIGINAL-URL:https://hood-espoo.fi
X-WR-CALDESC:Tapahtumat Jousiammuntaseura Robin Hood
BEGIN:VTIMEZONE
TZID:Europe/Helsinki
BEGIN:DAYLIGHT
TZOFFSETFROM:+0200
TZOFFSETTO:+0300
TZNAME:EEST
DTSTART:20150329T010000
END:DAYLIGHT
BEGIN:STANDARD
TZOFFSETFROM:+0300
TZOFFSETTO:+0200
TZNAME:EET
DTSTART:20151025T010000
END:STANDARD
END:VTIMEZONE
BEGIN:VEVENT
DTSTART;TZID=Europe/Helsinki:20150909T173000
DTEND;TZID=Europe/Helsinki:20150909T180000
DTSTAMP:20260422T113615
CREATED:20150907T172017Z
LAST-MODIFIED:20150907T172341Z
UID:3378-1441819800-1441821600@hood-espoo.fi
SUMMARY:3D-MM mitalikahvit
DESCRIPTION:Suomi sai lauantaina 5.9. historiansa ensimmäiset mitalit 3D-jousiammunnasta\, kun Anne Lantee (Robin Hood) voitti maailmanmestaruuden\, Mika Rutonen (Puijon Jousi) MM-hopean ja Timo Leskinen (Vaasan Diana-57) MM-pronssin Italian Ternissä. \nTuulimäessä pidetään keskiviikkona 9.9. klo 17:30 mitalikahvit Annen kunniaksi\, tervetuloa!
URL:https://hood-espoo.fi/event/3d-mm-mitalikahvit/
LOCATION:Tuulimäki\, Tapiola\, Itätuulenkuja 9\, Espoo\, 02100\, Suomi
CATEGORIES:Etusivu,Hood
END:VEVENT
END:VCALENDAR