BEGIN:VCALENDAR
VERSION:2.0
PRODID:-//Jousiammuntaseura Robin Hood - ECPv5.14.1//NONSGML v1.0//EN
CALSCALE:GREGORIAN
METHOD:PUBLISH
X-WR-CALNAME:Jousiammuntaseura Robin Hood
X-ORIGINAL-URL:https://hood-espoo.fi
X-WR-CALDESC:Tapahtumat Jousiammuntaseura Robin Hood
BEGIN:VTIMEZONE
TZID:Europe/Helsinki
BEGIN:DAYLIGHT
TZOFFSETFROM:+0200
TZOFFSETTO:+0300
TZNAME:EEST
DTSTART:20140330T010000
END:DAYLIGHT
BEGIN:STANDARD
TZOFFSETFROM:+0300
TZOFFSETTO:+0200
TZNAME:EET
DTSTART:20141026T010000
END:STANDARD
END:VTIMEZONE
BEGIN:VEVENT
DTSTART;VALUE=DATE:20141206
DTEND;VALUE=DATE:20141207
DTSTAMP:20260422T153005
CREATED:20140916T130151Z
LAST-MODIFIED:20140922T183320Z
UID:2883-1417824000-1417910399@hood-espoo.fi
SUMMARY:6.12. Ei vuoroa
DESCRIPTION:6.12. Ei ole vuoroa Itsenäisyyspäivän johdosta.
URL:https://hood-espoo.fi/event/6-12-ei-vuoroa-2/
CATEGORIES:Vuoropoikkeus
END:VEVENT
END:VCALENDAR