BEGIN:VCALENDAR
VERSION:2.0
PRODID:-//Jousiammuntaseura Robin Hood - ECPv5.14.1//NONSGML v1.0//EN
CALSCALE:GREGORIAN
METHOD:PUBLISH
X-WR-CALNAME:Jousiammuntaseura Robin Hood
X-ORIGINAL-URL:https://hood-espoo.fi
X-WR-CALDESC:Tapahtumat Jousiammuntaseura Robin Hood
BEGIN:VTIMEZONE
TZID:Europe/Helsinki
BEGIN:DAYLIGHT
TZOFFSETFROM:+0200
TZOFFSETTO:+0300
TZNAME:EEST
DTSTART:20150329T010000
END:DAYLIGHT
BEGIN:STANDARD
TZOFFSETFROM:+0300
TZOFFSETTO:+0200
TZNAME:EET
DTSTART:20151025T010000
END:STANDARD
END:VTIMEZONE
BEGIN:VEVENT
DTSTART;TZID=Europe/Helsinki:20150308T090000
DTEND;TZID=Europe/Helsinki:20150308T160000
DTSTAMP:20260421T234736
CREATED:20150202T131723Z
LAST-MODIFIED:20150202T131723Z
UID:3118-1425805200-1425830400@hood-espoo.fi
SUMMARY:8.3. Pitkä vuoro 9:00 - 16:00
DESCRIPTION:Sunnuntaina 8.3. pidennetty vuoro kello 9:00-16:00 Takadon leirin takia.
URL:https://hood-espoo.fi/event/8-3-pitka-vuoro-900-1600/
CATEGORIES:Vuoropoikkeus
END:VEVENT
END:VCALENDAR