BEGIN:VCALENDAR
VERSION:2.0
PRODID:-//Jousiammuntaseura Robin Hood - ECPv5.14.1//NONSGML v1.0//EN
CALSCALE:GREGORIAN
METHOD:PUBLISH
X-WR-CALNAME:Jousiammuntaseura Robin Hood
X-ORIGINAL-URL:https://hood-espoo.fi
X-WR-CALDESC:Tapahtumat Jousiammuntaseura Robin Hood
BEGIN:VTIMEZONE
TZID:Europe/Helsinki
BEGIN:DAYLIGHT
TZOFFSETFROM:+0200
TZOFFSETTO:+0300
TZNAME:EEST
DTSTART:20130331T010000
END:DAYLIGHT
BEGIN:STANDARD
TZOFFSETFROM:+0300
TZOFFSETTO:+0200
TZNAME:EET
DTSTART:20131027T010000
END:STANDARD
END:VTIMEZONE
BEGIN:VEVENT
DTSTART;TZID=Europe/Helsinki:20130427T120000
DTEND;TZID=Europe/Helsinki:20130427T170000
DTSTAMP:20260421T235017
CREATED:20130426T085037Z
LAST-MODIFIED:20130426T085037Z
UID:2167-1367064000-1367082000@hood-espoo.fi
SUMMARY:Alkeisvälineet eivät käytössä - talkoot Rusalla
DESCRIPTION:Ruskeasuon jousiammuntaradan kunnostustalkoiden vuoksi aktiiviporukka on siellä\, eikä alkeisvälineitä näillä näkymin saa käyttöön. \nTalkoista tarkempaa tietoa löytyy HJAP:n sivuilta\, kaikki ovat tervetulleita mukaan. \nHallivuoro muuten on normaalisti.
URL:https://hood-espoo.fi/event/alkeisvalineet-eivat-kaytossa-talkoot-rusalla/
CATEGORIES:Talkoot,Vuoropoikkeus
END:VEVENT
END:VCALENDAR