BEGIN:VCALENDAR
VERSION:2.0
PRODID:-//Jousiammuntaseura Robin Hood - ECPv5.14.1//NONSGML v1.0//EN
CALSCALE:GREGORIAN
METHOD:PUBLISH
X-WR-CALNAME:Jousiammuntaseura Robin Hood
X-ORIGINAL-URL:https://hood-espoo.fi/?lang=en
X-WR-CALDESC:Events for Jousiammuntaseura Robin Hood
BEGIN:VTIMEZONE
TZID:Europe/Helsinki
BEGIN:DAYLIGHT
TZOFFSETFROM:+0200
TZOFFSETTO:+0300
TZNAME:EEST
DTSTART:20170326T010000
END:DAYLIGHT
BEGIN:STANDARD
TZOFFSETFROM:+0300
TZOFFSETTO:+0200
TZNAME:EET
DTSTART:20171029T010000
END:STANDARD
END:VTIMEZONE
BEGIN:VEVENT
DTSTART;VALUE=DATE:20170901
DTEND;VALUE=DATE:20171001
DTSTAMP:20260423T164710
CREATED:20170825T115744Z
LAST-MODIFIED:20170825T115744Z
UID:5440-1504224000-1506815999@hood-espoo.fi
SUMMARY:Beginners practices move to Tuulimäki 1.9.
DESCRIPTION:The beginners practices move to Tuulimäki on 1.9. The new times are Wednesday 18-20 and Saturday 11-13.
URL:https://hood-espoo.fi/event/beginners-practices-move-to-tuulimaki-1-9/?lang=en
END:VEVENT
END:VCALENDAR