BEGIN:VCALENDAR
VERSION:2.0
PRODID:-//Jousiammuntaseura Robin Hood - ECPv5.14.1//NONSGML v1.0//EN
CALSCALE:GREGORIAN
METHOD:PUBLISH
X-WR-CALNAME:Jousiammuntaseura Robin Hood
X-ORIGINAL-URL:https://hood-espoo.fi
X-WR-CALDESC:Tapahtumat Jousiammuntaseura Robin Hood
BEGIN:VTIMEZONE
TZID:Europe/Helsinki
BEGIN:DAYLIGHT
TZOFFSETFROM:+0200
TZOFFSETTO:+0300
TZNAME:EEST
DTSTART:20180325T010000
END:DAYLIGHT
BEGIN:STANDARD
TZOFFSETFROM:+0300
TZOFFSETTO:+0200
TZNAME:EET
DTSTART:20181028T010000
END:STANDARD
END:VTIMEZONE
BEGIN:VEVENT
DTSTART;VALUE=DATE:20180428
DTEND;VALUE=DATE:20180429
DTSTAMP:20260423T162458
CREATED:20180425T184751Z
LAST-MODIFIED:20180425T184751Z
UID:5980-1524873600-1524959999@hood-espoo.fi
SUMMARY:BHT - Kaatajakisa
DESCRIPTION:Perinteinen Hood Bowhunter Teamin järjestämä kilpailu. \nLisätietoja: https://www.hood-bht.com/kalenteri.html?date=2018-04-28&eventId=81934#cal_event819342018-04-28
URL:https://hood-espoo.fi/event/bht-kaatajakisa-2/
LOCATION:Oittaan maastoammuntarata\, Kellonummentie 5\, Espoo\, 02740\, Suomi
CATEGORIES:BHT,Kilpailut
END:VEVENT
END:VCALENDAR