BEGIN:VCALENDAR
VERSION:2.0
PRODID:-//Jousiammuntaseura Robin Hood - ECPv5.14.1//NONSGML v1.0//EN
CALSCALE:GREGORIAN
METHOD:PUBLISH
X-WR-CALNAME:Jousiammuntaseura Robin Hood
X-ORIGINAL-URL:https://hood-espoo.fi
X-WR-CALDESC:Tapahtumat Jousiammuntaseura Robin Hood
BEGIN:VTIMEZONE
TZID:Europe/Helsinki
BEGIN:DAYLIGHT
TZOFFSETFROM:+0200
TZOFFSETTO:+0300
TZNAME:EEST
DTSTART:20150329T010000
END:DAYLIGHT
BEGIN:STANDARD
TZOFFSETFROM:+0300
TZOFFSETTO:+0200
TZNAME:EET
DTSTART:20151025T010000
END:STANDARD
END:VTIMEZONE
BEGIN:VEVENT
DTSTART;VALUE=DATE:20150425
DTEND;VALUE=DATE:20150426
DTSTAMP:20260421T174817
CREATED:20150323T084102Z
LAST-MODIFIED:20150329T154949Z
UID:3143-1429920000-1430006399@hood-espoo.fi
SUMMARY:BHT Kaatajakisa
DESCRIPTION:Lisätietoja: \nhttp://www.hood-bht.com/kalenteri.html?date=2015-04-25&eventId=54#cal_event542015-04-25
URL:https://hood-espoo.fi/event/bht-kaatajakisa/
LOCATION:Oittaan maastoammuntarata\, Kellonummentie 5\, Espoo\, 02740\, Suomi
CATEGORIES:BHT,Kilpailut
END:VEVENT
END:VCALENDAR