BEGIN:VCALENDAR
VERSION:2.0
PRODID:-//Jousiammuntaseura Robin Hood - ECPv5.14.1//NONSGML v1.0//EN
CALSCALE:GREGORIAN
METHOD:PUBLISH
X-WR-CALNAME:Jousiammuntaseura Robin Hood
X-ORIGINAL-URL:https://hood-espoo.fi/?lang=en
X-WR-CALDESC:Events for Jousiammuntaseura Robin Hood
BEGIN:VTIMEZONE
TZID:Europe/Helsinki
BEGIN:DAYLIGHT
TZOFFSETFROM:+0200
TZOFFSETTO:+0300
TZNAME:EEST
DTSTART:20170326T010000
END:DAYLIGHT
BEGIN:STANDARD
TZOFFSETFROM:+0300
TZOFFSETTO:+0200
TZNAME:EET
DTSTART:20171029T010000
END:STANDARD
END:VTIMEZONE
BEGIN:VEVENT
DTSTART;TZID=Europe/Helsinki:20171126T133000
DTEND;TZID=Europe/Helsinki:20171126T170000
DTSTAMP:20260423T150814
CREATED:20171013T123606Z
LAST-MODIFIED:20171013T123606Z
UID:5562-1511703000-1511715600@hood-espoo.fi
SUMMARY:Club championships and Divari competition
DESCRIPTION:The last part of the club championship will be held at the same time as November Divari competetion.
URL:https://hood-espoo.fi/event/club-championships-and-divari-competition/?lang=en
CATEGORIES:competition
END:VEVENT
END:VCALENDAR