BEGIN:VCALENDAR
VERSION:2.0
PRODID:-//Jousiammuntaseura Robin Hood - ECPv5.14.1//NONSGML v1.0//EN
CALSCALE:GREGORIAN
METHOD:PUBLISH
X-WR-CALNAME:Jousiammuntaseura Robin Hood
X-ORIGINAL-URL:https://hood-espoo.fi/?lang=en
X-WR-CALDESC:Events for Jousiammuntaseura Robin Hood
BEGIN:VTIMEZONE
TZID:Europe/Helsinki
BEGIN:DAYLIGHT
TZOFFSETFROM:+0200
TZOFFSETTO:+0300
TZNAME:EEST
DTSTART:20180325T010000
END:DAYLIGHT
BEGIN:STANDARD
TZOFFSETFROM:+0300
TZOFFSETTO:+0200
TZNAME:EET
DTSTART:20181028T010000
END:STANDARD
END:VTIMEZONE
BEGIN:VEVENT
DTSTART;TZID=Europe/Helsinki:20180422T133000
DTEND;TZID=Europe/Helsinki:20180422T170000
DTSTAMP:20260423T145604
CREATED:20180310T113649Z
LAST-MODIFIED:20180310T113649Z
UID:5937-1524403800-1524416400@hood-espoo.fi
SUMMARY:Divari competition
DESCRIPTION:
URL:https://hood-espoo.fi/event/divari-competition-5/?lang=en
CATEGORIES:competition
END:VEVENT
END:VCALENDAR