BEGIN:VCALENDAR
VERSION:2.0
PRODID:-//Jousiammuntaseura Robin Hood - ECPv5.14.1//NONSGML v1.0//EN
CALSCALE:GREGORIAN
METHOD:PUBLISH
X-WR-CALNAME:Jousiammuntaseura Robin Hood
X-ORIGINAL-URL:https://hood-espoo.fi/?lang=en
X-WR-CALDESC:Events for Jousiammuntaseura Robin Hood
BEGIN:VTIMEZONE
TZID:Europe/Helsinki
BEGIN:DAYLIGHT
TZOFFSETFROM:+0200
TZOFFSETTO:+0300
TZNAME:EEST
DTSTART:20170326T010000
END:DAYLIGHT
BEGIN:STANDARD
TZOFFSETFROM:+0300
TZOFFSETTO:+0200
TZNAME:EET
DTSTART:20171029T010000
END:STANDARD
END:VTIMEZONE
BEGIN:VEVENT
DTSTART;TZID=Europe/Helsinki:20170319T140000
DTEND;TZID=Europe/Helsinki:20170319T160000
DTSTAMP:20260423T192409
CREATED:20170222T202514Z
LAST-MODIFIED:20170222T202514Z
UID:5003-1489932000-1489939200@hood-espoo.fi
SUMMARY:Divari competition
DESCRIPTION:Divari competition starts at 14:00. \nAll club members are welcome. Competitions are free of charge and you do not need national lisence. Just bring your bow or borrow one from the club! Registration closes 10 minutes before competition starts. More information at Divari-series.
URL:https://hood-espoo.fi/event/divari-competition/?lang=en
END:VEVENT
END:VCALENDAR