BEGIN:VCALENDAR
VERSION:2.0
PRODID:-//Jousiammuntaseura Robin Hood - ECPv5.14.1//NONSGML v1.0//EN
CALSCALE:GREGORIAN
METHOD:PUBLISH
X-WR-CALNAME:Jousiammuntaseura Robin Hood
X-ORIGINAL-URL:https://hood-espoo.fi
X-WR-CALDESC:Tapahtumat Jousiammuntaseura Robin Hood
BEGIN:VTIMEZONE
TZID:Europe/Helsinki
BEGIN:DAYLIGHT
TZOFFSETFROM:+0200
TZOFFSETTO:+0300
TZNAME:EEST
DTSTART:20170326T010000
END:DAYLIGHT
BEGIN:STANDARD
TZOFFSETFROM:+0300
TZOFFSETTO:+0200
TZNAME:EET
DTSTART:20171029T010000
END:STANDARD
END:VTIMEZONE
BEGIN:VEVENT
DTSTART;TZID=Europe/Helsinki:20170423T140000
DTEND;TZID=Europe/Helsinki:20170423T160000
DTSTAMP:20260423T164405
CREATED:20170118T191929Z
LAST-MODIFIED:20170326T160718Z
UID:4947-1492956000-1492963200@hood-espoo.fi
SUMMARY:Divari-kisa
DESCRIPTION:Sunnuntaina 23.4. ammutaan kevään divari-sarjan kevään viimeinen kisa kello 14:00. \nKilpailuihin voivat osallistua kaikki seuran jäsenet ja ne ovat maksuttomia. Myöskään kilpailulisenssiä ei vaadita. Ilmoittautuminen tapahtuu paikan päällä viimeistään 10 minuuttia ennen kilpailun alkua. \nhttps://hood-espoo.fi/kilpailut/divari-sarja/
URL:https://hood-espoo.fi/event/divari-kisa-4/
CATEGORIES:Hood,Kilpailut
END:VEVENT
END:VCALENDAR