BEGIN:VCALENDAR
VERSION:2.0
PRODID:-//Jousiammuntaseura Robin Hood - ECPv5.14.1//NONSGML v1.0//EN
CALSCALE:GREGORIAN
METHOD:PUBLISH
X-WR-CALNAME:Jousiammuntaseura Robin Hood
X-ORIGINAL-URL:https://hood-espoo.fi
X-WR-CALDESC:Tapahtumat Jousiammuntaseura Robin Hood
BEGIN:VTIMEZONE
TZID:Europe/Helsinki
BEGIN:DAYLIGHT
TZOFFSETFROM:+0200
TZOFFSETTO:+0300
TZNAME:EEST
DTSTART:20160327T010000
END:DAYLIGHT
BEGIN:STANDARD
TZOFFSETFROM:+0300
TZOFFSETTO:+0200
TZNAME:EET
DTSTART:20161030T010000
END:STANDARD
END:VTIMEZONE
BEGIN:VEVENT
DTSTART;TZID=Europe/Helsinki:20160214T140000
DTEND;TZID=Europe/Helsinki:20160214T160000
DTSTAMP:20260424T002808
CREATED:20160109T130721Z
LAST-MODIFIED:20160109T130721Z
UID:3993-1455458400-1455465600@hood-espoo.fi
SUMMARY:Divari-sarjan kilpailu
DESCRIPTION:Divari-sarja on kuukausittainen kisa hallikaudella. Sopii myös aloittelijoille.
URL:https://hood-espoo.fi/event/divari-sarjan-kilpailu-2/
LOCATION:Tuulimäki\, Tapiola\, Itätuulenkuja 9\, Espoo\, 02100\, Suomi
CATEGORIES:Kilpailut
ORGANIZER;CN="Robin%20Hood%20ry":MAILTO:info@hood-espoo.fi
END:VEVENT
END:VCALENDAR