BEGIN:VCALENDAR
VERSION:2.0
PRODID:-//Jousiammuntaseura Robin Hood - ECPv5.14.1//NONSGML v1.0//EN
CALSCALE:GREGORIAN
METHOD:PUBLISH
X-WR-CALNAME:Jousiammuntaseura Robin Hood
X-ORIGINAL-URL:https://hood-espoo.fi
X-WR-CALDESC:Tapahtumat Jousiammuntaseura Robin Hood
BEGIN:VTIMEZONE
TZID:Europe/Helsinki
BEGIN:DAYLIGHT
TZOFFSETFROM:+0200
TZOFFSETTO:+0300
TZNAME:EEST
DTSTART:20180325T010000
END:DAYLIGHT
BEGIN:STANDARD
TZOFFSETFROM:+0300
TZOFFSETTO:+0200
TZNAME:EET
DTSTART:20181028T010000
END:STANDARD
END:VTIMEZONE
BEGIN:VEVENT
DTSTART;TZID=Europe/Helsinki:20180225T133000
DTEND;TZID=Europe/Helsinki:20180225T160000
DTSTAMP:20260423T162303
CREATED:20180225T095315Z
LAST-MODIFIED:20180225T095315Z
UID:5921-1519565400-1519574400@hood-espoo.fi
SUMMARY:Divarikisa
DESCRIPTION:
URL:https://hood-espoo.fi/event/divarikisa/
CATEGORIES:Kilpailut
END:VEVENT
END:VCALENDAR