BEGIN:VCALENDAR
VERSION:2.0
PRODID:-//Jousiammuntaseura Robin Hood - ECPv5.14.1//NONSGML v1.0//EN
CALSCALE:GREGORIAN
METHOD:PUBLISH
X-WR-CALNAME:Jousiammuntaseura Robin Hood
X-ORIGINAL-URL:https://hood-espoo.fi/?lang=en
X-WR-CALDESC:Events for Jousiammuntaseura Robin Hood
BEGIN:VTIMEZONE
TZID:Europe/Helsinki
BEGIN:DAYLIGHT
TZOFFSETFROM:+0200
TZOFFSETTO:+0300
TZNAME:EEST
DTSTART:20190331T010000
END:DAYLIGHT
BEGIN:STANDARD
TZOFFSETFROM:+0300
TZOFFSETTO:+0200
TZNAME:EET
DTSTART:20191027T010000
END:STANDARD
END:VTIMEZONE
BEGIN:VEVENT
DTSTART;TZID=Europe/Helsinki:20190331T130000
DTEND;TZID=Europe/Helsinki:20190331T180000
DTSTAMP:20260423T152416
CREATED:20190210T191455Z
LAST-MODIFIED:20190210T191455Z
UID:6370-1554037200-1554055200@hood-espoo.fi
SUMMARY:Divison competition with team finals
DESCRIPTION:Competitions starts about 13:30 and continues with team event. Training competition for the national competition organizer course.
URL:https://hood-espoo.fi/event/divison-competition-with-team-finals/?lang=en
END:VEVENT
END:VCALENDAR