BEGIN:VCALENDAR
VERSION:2.0
PRODID:-//Jousiammuntaseura Robin Hood - ECPv5.14.1//NONSGML v1.0//EN
CALSCALE:GREGORIAN
METHOD:PUBLISH
X-WR-CALNAME:Jousiammuntaseura Robin Hood
X-ORIGINAL-URL:https://hood-espoo.fi
X-WR-CALDESC:Tapahtumat Jousiammuntaseura Robin Hood
BEGIN:VTIMEZONE
TZID:Europe/Helsinki
BEGIN:DAYLIGHT
TZOFFSETFROM:+0200
TZOFFSETTO:+0300
TZNAME:EEST
DTSTART:20140330T010000
END:DAYLIGHT
BEGIN:STANDARD
TZOFFSETFROM:+0300
TZOFFSETTO:+0200
TZNAME:EET
DTSTART:20141026T010000
END:STANDARD
END:VTIMEZONE
BEGIN:VEVENT
DTSTART;VALUE=DATE:20141011
DTEND;VALUE=DATE:20141013
DTSTAMP:20260423T045246
CREATED:20131113T092659Z
LAST-MODIFIED:20140929T055130Z
UID:2455-1412985600-1413158399@hood-espoo.fi
SUMMARY:Ei hallivuoroa (11.10.-12.10.2014)
DESCRIPTION:11.10.-12.10.2014 ei ole hallivuoroa (EsTT:n kisat)
URL:https://hood-espoo.fi/event/ei-hallivuoroa-10-12-10-2014/
LOCATION:Tuulimäki\, Tapiola\, Itätuulenkuja 9\, Espoo\, 02100\, Suomi
CATEGORIES:Vuoropoikkeus
END:VEVENT
END:VCALENDAR