BEGIN:VCALENDAR
VERSION:2.0
PRODID:-//Jousiammuntaseura Robin Hood - ECPv5.14.1//NONSGML v1.0//EN
CALSCALE:GREGORIAN
METHOD:PUBLISH
X-WR-CALNAME:Jousiammuntaseura Robin Hood
X-ORIGINAL-URL:https://hood-espoo.fi
X-WR-CALDESC:Tapahtumat Jousiammuntaseura Robin Hood
BEGIN:VTIMEZONE
TZID:Europe/Helsinki
BEGIN:DAYLIGHT
TZOFFSETFROM:+0200
TZOFFSETTO:+0300
TZNAME:EEST
DTSTART:20170326T010000
END:DAYLIGHT
BEGIN:STANDARD
TZOFFSETFROM:+0300
TZOFFSETTO:+0200
TZNAME:EET
DTSTART:20171029T010000
END:STANDARD
END:VTIMEZONE
BEGIN:VEVENT
DTSTART;VALUE=DATE:20170101
DTEND;VALUE=DATE:20170102
DTSTAMP:20260423T205701
CREATED:20161219T165416Z
LAST-MODIFIED:20161219T165416Z
UID:4863-1483228800-1483315199@hood-espoo.fi
SUMMARY:Ei hallivuoroa
DESCRIPTION:Halli on kiinni. Robin Hood toivottaa menestykästä vuotta 2017.
URL:https://hood-espoo.fi/event/ei-hallivuoroa-14/
LOCATION:Tuulimäki\, Tapiola\, Itätuulenkuja 9\, Espoo\, 02100\, Suomi
CATEGORIES:Vuoropoikkeus
END:VEVENT
END:VCALENDAR