BEGIN:VCALENDAR
VERSION:2.0
PRODID:-//Jousiammuntaseura Robin Hood - ECPv5.14.1//NONSGML v1.0//EN
CALSCALE:GREGORIAN
METHOD:PUBLISH
X-WR-CALNAME:Jousiammuntaseura Robin Hood
X-ORIGINAL-URL:https://hood-espoo.fi
X-WR-CALDESC:Tapahtumat Jousiammuntaseura Robin Hood
BEGIN:VTIMEZONE
TZID:Europe/Helsinki
BEGIN:DAYLIGHT
TZOFFSETFROM:+0200
TZOFFSETTO:+0300
TZNAME:EEST
DTSTART:20210328T010000
END:DAYLIGHT
BEGIN:STANDARD
TZOFFSETFROM:+0300
TZOFFSETTO:+0200
TZNAME:EET
DTSTART:20211031T010000
END:STANDARD
END:VTIMEZONE
BEGIN:VEVENT
DTSTART;VALUE=DATE:20211119
DTEND;VALUE=DATE:20211122
DTSTAMP:20260423T161600
CREATED:20210921T151849Z
LAST-MODIFIED:20211009T092438Z
UID:7389-1637280000-1637539199@hood-espoo.fi
SUMMARY:Ei vuoroja (ilmapistoolin ja -kiväärin SM)
DESCRIPTION:
URL:https://hood-espoo.fi/event/ei-vuoroa-ilmapistoolin-ja-kivaarin-sm/
CATEGORIES:Etusivu,Hood,Vuoropoikkeus
END:VEVENT
END:VCALENDAR