BEGIN:VCALENDAR
VERSION:2.0
PRODID:-//Jousiammuntaseura Robin Hood - ECPv5.14.1//NONSGML v1.0//EN
CALSCALE:GREGORIAN
METHOD:PUBLISH
X-WR-CALNAME:Jousiammuntaseura Robin Hood
X-ORIGINAL-URL:https://hood-espoo.fi
X-WR-CALDESC:Tapahtumat Jousiammuntaseura Robin Hood
BEGIN:VTIMEZONE
TZID:Europe/Helsinki
BEGIN:DAYLIGHT
TZOFFSETFROM:+0200
TZOFFSETTO:+0300
TZNAME:EEST
DTSTART:20210328T010000
END:DAYLIGHT
BEGIN:STANDARD
TZOFFSETFROM:+0300
TZOFFSETTO:+0200
TZNAME:EET
DTSTART:20211031T010000
END:STANDARD
END:VTIMEZONE
BEGIN:VEVENT
DTSTART;TZID=Europe/Helsinki:20211204T090000
DTEND;TZID=Europe/Helsinki:20211205T150000
DTSTAMP:20260423T164957
CREATED:20210921T151517Z
LAST-MODIFIED:20211009T092413Z
UID:7387-1638608400-1638716400@hood-espoo.fi
SUMMARY:Ei vuoroa (Kyudon SM)\, vuoro käytettävissä su 5.12. klo 15-18
DESCRIPTION:
URL:https://hood-espoo.fi/event/ei-vuoroa-kyudon-sm/
CATEGORIES:Etusivu,Hood,Vuoropoikkeus
END:VEVENT
END:VCALENDAR