BEGIN:VCALENDAR
VERSION:2.0
PRODID:-//Jousiammuntaseura Robin Hood - ECPv5.14.1//NONSGML v1.0//EN
CALSCALE:GREGORIAN
METHOD:PUBLISH
X-WR-CALNAME:Jousiammuntaseura Robin Hood
X-ORIGINAL-URL:https://hood-espoo.fi
X-WR-CALDESC:Tapahtumat Jousiammuntaseura Robin Hood
BEGIN:VTIMEZONE
TZID:Europe/Helsinki
BEGIN:DAYLIGHT
TZOFFSETFROM:+0200
TZOFFSETTO:+0300
TZNAME:EEST
DTSTART:20180325T010000
END:DAYLIGHT
BEGIN:STANDARD
TZOFFSETFROM:+0300
TZOFFSETTO:+0200
TZNAME:EET
DTSTART:20181028T010000
END:STANDARD
END:VTIMEZONE
BEGIN:VEVENT
DTSTART;VALUE=DATE:20180330
DTEND;VALUE=DATE:20180402
DTSTAMP:20260423T150657
CREATED:20171210T110656Z
LAST-MODIFIED:20171210T110656Z
UID:5724-1522368000-1522627199@hood-espoo.fi
SUMMARY:Ei vuoroja: Pääsiäinen
DESCRIPTION:30.3.-1.4. Ei vuoroja. (Pääsiäinen)
URL:https://hood-espoo.fi/event/ei-vuoroja-paasiainen/
CATEGORIES:Vuoropoikkeus
END:VEVENT
END:VCALENDAR