BEGIN:VCALENDAR
VERSION:2.0
PRODID:-//Jousiammuntaseura Robin Hood - ECPv5.14.1//NONSGML v1.0//EN
CALSCALE:GREGORIAN
METHOD:PUBLISH
X-WR-CALNAME:Jousiammuntaseura Robin Hood
X-ORIGINAL-URL:https://hood-espoo.fi
X-WR-CALDESC:Tapahtumat Jousiammuntaseura Robin Hood
BEGIN:VTIMEZONE
TZID:Europe/Helsinki
BEGIN:DAYLIGHT
TZOFFSETFROM:+0200
TZOFFSETTO:+0300
TZNAME:EEST
DTSTART:20170326T010000
END:DAYLIGHT
BEGIN:STANDARD
TZOFFSETFROM:+0300
TZOFFSETTO:+0200
TZNAME:EET
DTSTART:20171029T010000
END:STANDARD
END:VTIMEZONE
BEGIN:VEVENT
DTSTART;VALUE=DATE:20171215
DTEND;VALUE=DATE:20171218
DTSTAMP:20260423T164322
CREATED:20171107T081841Z
LAST-MODIFIED:20171107T081955Z
UID:5593-1513296000-1513555199@hood-espoo.fi
SUMMARY:Ei vuoroja
DESCRIPTION:15.12.-17.12. Ei vuoroja ESF:n kisan takia.
URL:https://hood-espoo.fi/event/ei-vuoroja/
CATEGORIES:Vuoropoikkeus
END:VEVENT
END:VCALENDAR