BEGIN:VCALENDAR
VERSION:2.0
PRODID:-//Jousiammuntaseura Robin Hood - ECPv5.14.1//NONSGML v1.0//EN
CALSCALE:GREGORIAN
METHOD:PUBLISH
X-WR-CALNAME:Jousiammuntaseura Robin Hood
X-ORIGINAL-URL:https://hood-espoo.fi
X-WR-CALDESC:Tapahtumat Jousiammuntaseura Robin Hood
BEGIN:VTIMEZONE
TZID:Europe/Helsinki
BEGIN:DAYLIGHT
TZOFFSETFROM:+0200
TZOFFSETTO:+0300
TZNAME:EEST
DTSTART:20200329T010000
END:DAYLIGHT
BEGIN:STANDARD
TZOFFSETFROM:+0300
TZOFFSETTO:+0200
TZNAME:EET
DTSTART:20201025T010000
END:STANDARD
END:VTIMEZONE
BEGIN:VEVENT
DTSTART;TZID=Europe/Helsinki:20200905T103000
DTEND;TZID=Europe/Helsinki:20200905T130000
DTSTAMP:20260423T040709
CREATED:20200829T082516Z
LAST-MODIFIED:20200829T082944Z
UID:7120-1599301800-1599310800@hood-espoo.fi
SUMMARY:Ensimmäinen alkeisvuoro Tuulimäessä
DESCRIPTION:Syyskauden ensimmäinen alkeisvuoro on Tuulimäessä 5.9. kello 11:15 – 12:45. Ilmoittauduthan etukäteen info@hood-espoo.fi Covid-19 tilanteen takia.
URL:https://hood-espoo.fi/event/ensimmainen-alkeisvuoro-tuulimaessa/
END:VEVENT
END:VCALENDAR