BEGIN:VCALENDAR
VERSION:2.0
PRODID:-//Jousiammuntaseura Robin Hood - ECPv5.14.1//NONSGML v1.0//EN
CALSCALE:GREGORIAN
METHOD:PUBLISH
X-WR-CALNAME:Jousiammuntaseura Robin Hood
X-ORIGINAL-URL:https://hood-espoo.fi
X-WR-CALDESC:Tapahtumat Jousiammuntaseura Robin Hood
BEGIN:VTIMEZONE
TZID:Europe/Helsinki
BEGIN:DAYLIGHT
TZOFFSETFROM:+0200
TZOFFSETTO:+0300
TZNAME:EEST
DTSTART:20180325T010000
END:DAYLIGHT
BEGIN:STANDARD
TZOFFSETFROM:+0300
TZOFFSETTO:+0200
TZNAME:EET
DTSTART:20181028T010000
END:STANDARD
END:VTIMEZONE
BEGIN:VEVENT
DTSTART;TZID=Europe/Helsinki:20181008T170000
DTEND;TZID=Europe/Helsinki:20181111T190000
DTSTAMP:20260423T150808
CREATED:20180927T082434Z
LAST-MODIFIED:20180927T082434Z
UID:6106-1539018000-1541962800@hood-espoo.fi
SUMMARY:Ensinuolet-kurssi alkaa 8.10.2018
DESCRIPTION:6 ampujaa mahtuu maanantaina 8.10.2018 alkavalle Ensinuolet-kurssille. Katso lisätiedot täältä.
URL:https://hood-espoo.fi/event/ensinuolet-kurssi-alkaa-8-10-2018/
LOCATION:Tuulimäki\, Tapiola\, Itätuulenkuja 9\, Espoo\, 02100\, Suomi
ORGANIZER;CN="Robin%20Hood%20ry":MAILTO:info@hood-espoo.fi
END:VEVENT
END:VCALENDAR