BEGIN:VCALENDAR
VERSION:2.0
PRODID:-//Jousiammuntaseura Robin Hood - ECPv5.14.1//NONSGML v1.0//EN
CALSCALE:GREGORIAN
METHOD:PUBLISH
X-WR-CALNAME:Jousiammuntaseura Robin Hood
X-ORIGINAL-URL:https://hood-espoo.fi
X-WR-CALDESC:Tapahtumat Jousiammuntaseura Robin Hood
BEGIN:VTIMEZONE
TZID:Europe/Helsinki
BEGIN:DAYLIGHT
TZOFFSETFROM:+0200
TZOFFSETTO:+0300
TZNAME:EEST
DTSTART:20150329T010000
END:DAYLIGHT
BEGIN:STANDARD
TZOFFSETFROM:+0300
TZOFFSETTO:+0200
TZNAME:EET
DTSTART:20151025T010000
END:STANDARD
END:VTIMEZONE
BEGIN:VEVENT
DTSTART;TZID=Europe/Helsinki:20150426T100000
DTEND;TZID=Europe/Helsinki:20150426T180000
DTSTAMP:20260423T114104
CREATED:20150402T103415Z
LAST-MODIFIED:20150402T103415Z
UID:3168-1430042400-1430071200@hood-espoo.fi
SUMMARY:FFAA Eläinkuva SM
DESCRIPTION:Hood järjestää FFAA:n luvalla Eläinkuva SM kilpailun Oittaan maastoammuntaradalla 26.4.2015. \nEläinkuva 2015 SM kilpailukutsu (PDF)
URL:https://hood-espoo.fi/event/ffaa-elainkuva-sm/
LOCATION:Oittaan maastoammuntarata\, Kellonummentie 5\, Espoo\, 02740\, Suomi
CATEGORIES:Hood,Kilpailut
END:VEVENT
END:VCALENDAR