BEGIN:VCALENDAR
VERSION:2.0
PRODID:-//Jousiammuntaseura Robin Hood - ECPv5.14.1//NONSGML v1.0//EN
CALSCALE:GREGORIAN
METHOD:PUBLISH
X-WR-CALNAME:Jousiammuntaseura Robin Hood
X-ORIGINAL-URL:https://hood-espoo.fi
X-WR-CALDESC:Tapahtumat Jousiammuntaseura Robin Hood
BEGIN:VTIMEZONE
TZID:Europe/Helsinki
BEGIN:DAYLIGHT
TZOFFSETFROM:+0200
TZOFFSETTO:+0300
TZNAME:EEST
DTSTART:20130331T010000
END:DAYLIGHT
BEGIN:STANDARD
TZOFFSETFROM:+0300
TZOFFSETTO:+0200
TZNAME:EET
DTSTART:20131027T010000
END:STANDARD
END:VTIMEZONE
BEGIN:VEVENT
DTSTART;TZID=Europe/Helsinki:20130825T100000
DTEND;TZID=Europe/Helsinki:20130825T200000
DTSTAMP:20260422T020205
CREATED:20130613T093351Z
LAST-MODIFIED:20130807T183415Z
UID:2204-1377424800-1377460800@hood-espoo.fi
SUMMARY:FFAA KV-kierros
DESCRIPTION:Hood järjestää FFAA:n kansainvälisen kierroksen Oittaan maastoammuntaradalla. \nTarkemmat tiedot kilpailukutsussa.
URL:https://hood-espoo.fi/event/ffaa-kv-kierros/
LOCATION:Oittaan maastoammuntarata\, Kellonummentie 5\, Espoo\, 02740\, Suomi
CATEGORIES:Kilpailut
END:VEVENT
END:VCALENDAR