BEGIN:VCALENDAR
VERSION:2.0
PRODID:-//Jousiammuntaseura Robin Hood - ECPv5.14.1//NONSGML v1.0//EN
CALSCALE:GREGORIAN
METHOD:PUBLISH
X-WR-CALNAME:Jousiammuntaseura Robin Hood
X-ORIGINAL-URL:https://hood-espoo.fi/?lang=en
X-WR-CALDESC:Events for Jousiammuntaseura Robin Hood
BEGIN:VTIMEZONE
TZID:Europe/Helsinki
BEGIN:DAYLIGHT
TZOFFSETFROM:+0200
TZOFFSETTO:+0300
TZNAME:EEST
DTSTART:20170326T010000
END:DAYLIGHT
BEGIN:STANDARD
TZOFFSETFROM:+0300
TZOFFSETTO:+0200
TZNAME:EET
DTSTART:20171029T010000
END:STANDARD
END:VTIMEZONE
BEGIN:VEVENT
DTSTART;TZID=Europe/Helsinki:20170604T100000
DTEND;TZID=Europe/Helsinki:20170604T140000
DTSTAMP:20260423T180454
CREATED:20170524T124441Z
LAST-MODIFIED:20170524T124455Z
UID:5267-1496570400-1496584800@hood-espoo.fi
SUMMARY:Field Archery Course - Field Session
DESCRIPTION:Field archery course for Robin Hood members is arranged on Wed 31.5. from 18 onwards at Tuulimäki (theory session) and on Sun 4.6. from 10 onwards at Oittaa (field session). Course is intented as a basic course for all members who are interested in field archery. Course focus is in special characteristics of field archery. \nYou can enrol in the course by sending email to info@hood-espoo.fi. Please inform which bow type you are shooting with and also age for junior participants. We are also shooting during the thory part at Tuulimäki so bring your own bow with you.
URL:https://hood-espoo.fi/event/field-archery-course/?lang=en
ORGANIZER;CN="Robin%20Hood%20ry":MAILTO:info@hood-espoo.fi
END:VEVENT
END:VCALENDAR