BEGIN:VCALENDAR
VERSION:2.0
PRODID:-//Jousiammuntaseura Robin Hood - ECPv5.14.1//NONSGML v1.0//EN
CALSCALE:GREGORIAN
METHOD:PUBLISH
X-WR-CALNAME:Jousiammuntaseura Robin Hood
X-ORIGINAL-URL:https://hood-espoo.fi
X-WR-CALDESC:Tapahtumat Jousiammuntaseura Robin Hood
BEGIN:VTIMEZONE
TZID:Europe/Helsinki
BEGIN:DAYLIGHT
TZOFFSETFROM:+0200
TZOFFSETTO:+0300
TZNAME:EEST
DTSTART:20140330T010000
END:DAYLIGHT
BEGIN:STANDARD
TZOFFSETFROM:+0300
TZOFFSETTO:+0200
TZNAME:EET
DTSTART:20141026T010000
END:STANDARD
END:VTIMEZONE
BEGIN:VEVENT
DTSTART;TZID=Europe/Helsinki:20140223T130000
DTEND;TZID=Europe/Helsinki:20140223T160000
DTSTAMP:20260421T114427
CREATED:20140215T162258Z
LAST-MODIFIED:20140215T162258Z
UID:2681-1393160400-1393171200@hood-espoo.fi
SUMMARY:Hallivuoro kello 13-16
DESCRIPTION:Hallivuoro alkaa poikkeuksellisesti vasta kello 13:00.
URL:https://hood-espoo.fi/event/hallivuoro-kello-13-16/
CATEGORIES:Vuoropoikkeus
END:VEVENT
END:VCALENDAR