BEGIN:VCALENDAR
VERSION:2.0
PRODID:-//Jousiammuntaseura Robin Hood - ECPv5.14.1//NONSGML v1.0//EN
CALSCALE:GREGORIAN
METHOD:PUBLISH
X-WR-CALNAME:Jousiammuntaseura Robin Hood
X-ORIGINAL-URL:https://hood-espoo.fi
X-WR-CALDESC:Tapahtumat Jousiammuntaseura Robin Hood
BEGIN:VTIMEZONE
TZID:Europe/Helsinki
BEGIN:DAYLIGHT
TZOFFSETFROM:+0200
TZOFFSETTO:+0300
TZNAME:EEST
DTSTART:20230326T010000
END:DAYLIGHT
BEGIN:STANDARD
TZOFFSETFROM:+0300
TZOFFSETTO:+0200
TZNAME:EET
DTSTART:20231029T010000
END:STANDARD
END:VTIMEZONE
BEGIN:VEVENT
DTSTART;TZID=Europe/Helsinki:20230212T133000
DTEND;TZID=Europe/Helsinki:20230212T160000
DTSTAMP:20260423T164947
CREATED:20221006T164316Z
LAST-MODIFIED:20221006T164316Z
UID:7771-1676208600-1676217600@hood-espoo.fi
SUMMARY:Helmikuun divarikisa
DESCRIPTION:
URL:https://hood-espoo.fi/event/helmikuun-divarikisa-2/
END:VEVENT
END:VCALENDAR