BEGIN:VCALENDAR
VERSION:2.0
PRODID:-//Jousiammuntaseura Robin Hood - ECPv5.14.1//NONSGML v1.0//EN
CALSCALE:GREGORIAN
METHOD:PUBLISH
X-WR-CALNAME:Jousiammuntaseura Robin Hood
X-ORIGINAL-URL:https://hood-espoo.fi/?lang=en
X-WR-CALDESC:Events for Jousiammuntaseura Robin Hood
BEGIN:VTIMEZONE
TZID:Europe/Helsinki
BEGIN:DAYLIGHT
TZOFFSETFROM:+0200
TZOFFSETTO:+0300
TZNAME:EEST
DTSTART:20180325T010000
END:DAYLIGHT
BEGIN:STANDARD
TZOFFSETFROM:+0300
TZOFFSETTO:+0200
TZNAME:EET
DTSTART:20181028T010000
END:STANDARD
END:VTIMEZONE
BEGIN:VEVENT
DTSTART;TZID=Europe/Helsinki:20181130T171500
DTEND;TZID=Europe/Helsinki:20181130T190000
DTSTAMP:20260423T180728
CREATED:20181125T115853Z
LAST-MODIFIED:20181125T115853Z
UID:6225-1543598100-1543604400@hood-espoo.fi
SUMMARY:Helsinki archery association's election meeting
DESCRIPTION:Kokouskutsu: Vaalikokous 2018
URL:https://hood-espoo.fi/event/helsinki-archery-associations-election-meeting/?lang=en
END:VEVENT
END:VCALENDAR