BEGIN:VCALENDAR
VERSION:2.0
PRODID:-//Jousiammuntaseura Robin Hood - ECPv5.14.1//NONSGML v1.0//EN
CALSCALE:GREGORIAN
METHOD:PUBLISH
X-WR-CALNAME:Jousiammuntaseura Robin Hood
X-ORIGINAL-URL:https://hood-espoo.fi
X-WR-CALDESC:Tapahtumat Jousiammuntaseura Robin Hood
BEGIN:VTIMEZONE
TZID:Europe/Helsinki
BEGIN:DAYLIGHT
TZOFFSETFROM:+0200
TZOFFSETTO:+0300
TZNAME:EEST
DTSTART:20220327T010000
END:DAYLIGHT
BEGIN:STANDARD
TZOFFSETFROM:+0300
TZOFFSETTO:+0200
TZNAME:EET
DTSTART:20221030T010000
END:STANDARD
END:VTIMEZONE
BEGIN:VEVENT
DTSTART;TZID=Europe/Helsinki:20220304T150000
DTEND;TZID=Europe/Helsinki:20220305T210000
DTSTAMP:20260423T071155
CREATED:20211211T173852Z
LAST-MODIFIED:20220215T194827Z
UID:7433-1646406000-1646514000@hood-espoo.fi
SUMMARY:Tuulimäkikisa
DESCRIPTION:
URL:https://hood-espoo.fi/event/hoodin-talvikisa/
CATEGORIES:Etusivu,Hood,Kilpailut
END:VEVENT
END:VCALENDAR