BEGIN:VCALENDAR
VERSION:2.0
PRODID:-//Jousiammuntaseura Robin Hood - ECPv5.14.1//NONSGML v1.0//EN
CALSCALE:GREGORIAN
METHOD:PUBLISH
X-WR-CALNAME:Jousiammuntaseura Robin Hood
X-ORIGINAL-URL:https://hood-espoo.fi
X-WR-CALDESC:Tapahtumat Jousiammuntaseura Robin Hood
BEGIN:VTIMEZONE
TZID:Europe/Helsinki
BEGIN:DAYLIGHT
TZOFFSETFROM:+0200
TZOFFSETTO:+0300
TZNAME:EEST
DTSTART:20220327T010000
END:DAYLIGHT
BEGIN:STANDARD
TZOFFSETFROM:+0300
TZOFFSETTO:+0200
TZNAME:EET
DTSTART:20221030T010000
END:STANDARD
END:VTIMEZONE
BEGIN:VEVENT
DTSTART;TZID=Europe/Helsinki:20220424T133000
DTEND;TZID=Europe/Helsinki:20220424T153000
DTSTAMP:20260423T223313
CREATED:20211212T102035Z
LAST-MODIFIED:20220201T151954Z
UID:7446-1650807000-1650814200@hood-espoo.fi
SUMMARY:Huhtikuun divarikisa
DESCRIPTION:
URL:https://hood-espoo.fi/event/huhtikuun-divarikisa/
CATEGORIES:Etusivu,Hood,Kilpailut
END:VEVENT
END:VCALENDAR