BEGIN:VCALENDAR
VERSION:2.0
PRODID:-//Jousiammuntaseura Robin Hood - ECPv5.14.1//NONSGML v1.0//EN
CALSCALE:GREGORIAN
METHOD:PUBLISH
X-WR-CALNAME:Jousiammuntaseura Robin Hood
X-ORIGINAL-URL:https://hood-espoo.fi/?lang=en
X-WR-CALDESC:Events for Jousiammuntaseura Robin Hood
BEGIN:VTIMEZONE
TZID:Europe/Helsinki
BEGIN:DAYLIGHT
TZOFFSETFROM:+0200
TZOFFSETTO:+0300
TZNAME:EEST
DTSTART:20170326T010000
END:DAYLIGHT
BEGIN:STANDARD
TZOFFSETFROM:+0300
TZOFFSETTO:+0200
TZNAME:EET
DTSTART:20171029T010000
END:STANDARD
END:VTIMEZONE
BEGIN:VEVENT
DTSTART;VALUE=DATE:20170213
DTEND;VALUE=DATE:20170219
DTSTAMP:20260424T014709
CREATED:20170203T084059Z
LAST-MODIFIED:20170203T084059Z
UID:4975-1486944000-1487462399@hood-espoo.fi
SUMMARY:Indoor hall closed
DESCRIPTION:Indoor hall is closed because of the renovation.
URL:https://hood-espoo.fi/event/indoor-hall-closed-7/?lang=en
CATEGORIES:exceptions
END:VEVENT
END:VCALENDAR