BEGIN:VCALENDAR
VERSION:2.0
PRODID:-//Jousiammuntaseura Robin Hood - ECPv5.14.1//NONSGML v1.0//EN
CALSCALE:GREGORIAN
METHOD:PUBLISH
X-WR-CALNAME:Jousiammuntaseura Robin Hood
X-ORIGINAL-URL:https://hood-espoo.fi
X-WR-CALDESC:Tapahtumat Jousiammuntaseura Robin Hood
BEGIN:VTIMEZONE
TZID:Europe/Helsinki
BEGIN:DAYLIGHT
TZOFFSETFROM:+0200
TZOFFSETTO:+0300
TZNAME:EEST
DTSTART:20150329T010000
END:DAYLIGHT
BEGIN:STANDARD
TZOFFSETFROM:+0300
TZOFFSETTO:+0200
TZNAME:EET
DTSTART:20151025T010000
END:STANDARD
END:VTIMEZONE
BEGIN:VEVENT
DTSTART;VALUE=DATE:20150717
DTEND;VALUE=DATE:20150720
DTSTAMP:20260420T022911
CREATED:20150515T082352Z
LAST-MODIFIED:20150515T082352Z
UID:3236-1437091200-1437350399@hood-espoo.fi
SUMMARY:Jousiammunnan SM-kilpailut
DESCRIPTION:Hood ja HJAP järjestävät Jousiammunnan SM-kilpailut Leppävaaran stadionilla & Senaatintorilla. \nLisätietoja: http://www.jousiammunnansm2015.fi/
URL:https://hood-espoo.fi/event/jousiammunnan-sm-kilpailut/
CATEGORIES:Kilpailut
END:VEVENT
END:VCALENDAR