BEGIN:VCALENDAR
VERSION:2.0
PRODID:-//Jousiammuntaseura Robin Hood - ECPv5.14.1//NONSGML v1.0//EN
CALSCALE:GREGORIAN
METHOD:PUBLISH
X-WR-CALNAME:Jousiammuntaseura Robin Hood
X-ORIGINAL-URL:https://hood-espoo.fi
X-WR-CALDESC:Tapahtumat Jousiammuntaseura Robin Hood
BEGIN:VTIMEZONE
TZID:Europe/Helsinki
BEGIN:DAYLIGHT
TZOFFSETFROM:+0200
TZOFFSETTO:+0300
TZNAME:EEST
DTSTART:20170326T010000
END:DAYLIGHT
BEGIN:STANDARD
TZOFFSETFROM:+0300
TZOFFSETTO:+0200
TZNAME:EET
DTSTART:20171029T010000
END:STANDARD
END:VTIMEZONE
BEGIN:VEVENT
DTSTART;VALUE=DATE:20170429
DTEND;VALUE=DATE:20170430
DTSTAMP:20260423T192254
CREATED:20170419T112510Z
LAST-MODIFIED:20170419T112510Z
UID:5140-1493424000-1493510399@hood-espoo.fi
SUMMARY:Kaataja 2017
DESCRIPTION:Seuran jousimetsästystiimin järjestämä\, perinteinen Kaataja-kilpailu avaa taas SJML:n Cupin Oittaalla. Lisätietoja osoitteesta http://www.hood-bht.com/uutiset.html?90038
URL:https://hood-espoo.fi/event/kaataja-2017/
LOCATION:Oittaan maastoammuntarata\, Kellonummentie 5\, Espoo\, 02740\, Suomi
CATEGORIES:BHT,Etusivu,Kilpailut
END:VEVENT
END:VCALENDAR