BEGIN:VCALENDAR
VERSION:2.0
PRODID:-//Jousiammuntaseura Robin Hood - ECPv5.14.1//NONSGML v1.0//EN
CALSCALE:GREGORIAN
METHOD:PUBLISH
X-WR-CALNAME:Jousiammuntaseura Robin Hood
X-ORIGINAL-URL:https://hood-espoo.fi
X-WR-CALDESC:Tapahtumat Jousiammuntaseura Robin Hood
BEGIN:VTIMEZONE
TZID:Europe/Helsinki
BEGIN:DAYLIGHT
TZOFFSETFROM:+0200
TZOFFSETTO:+0300
TZNAME:EEST
DTSTART:20140330T010000
END:DAYLIGHT
BEGIN:STANDARD
TZOFFSETFROM:+0300
TZOFFSETTO:+0200
TZNAME:EET
DTSTART:20141026T010000
END:STANDARD
END:VTIMEZONE
BEGIN:VEVENT
DTSTART;VALUE=DATE:20140426
DTEND;VALUE=DATE:20140427
DTSTAMP:20260422T052102
CREATED:20131203T073628Z
LAST-MODIFIED:20131216T111642Z
UID:2508-1398470400-1398556799@hood-espoo.fi
SUMMARY:Kaataja-kisa 26.4.
DESCRIPTION:Robin Hood BHT järjestää Kaataja-kisan 26.4. Kisakutsu julkaistaan myöhemmin.
URL:https://hood-espoo.fi/event/kaataja-kisa-26-4/
LOCATION:Oittaan maastoammuntarata\, Kellonummentie 5\, Espoo\, 02740\, Suomi
CATEGORIES:Hood,Kilpailut
END:VEVENT
END:VCALENDAR