BEGIN:VCALENDAR
VERSION:2.0
PRODID:-//Jousiammuntaseura Robin Hood - ECPv5.14.1//NONSGML v1.0//EN
CALSCALE:GREGORIAN
METHOD:PUBLISH
X-WR-CALNAME:Jousiammuntaseura Robin Hood
X-ORIGINAL-URL:https://hood-espoo.fi
X-WR-CALDESC:Tapahtumat Jousiammuntaseura Robin Hood
BEGIN:VTIMEZONE
TZID:Europe/Helsinki
BEGIN:DAYLIGHT
TZOFFSETFROM:+0200
TZOFFSETTO:+0300
TZNAME:EEST
DTSTART:20150329T010000
END:DAYLIGHT
BEGIN:STANDARD
TZOFFSETFROM:+0300
TZOFFSETTO:+0200
TZNAME:EET
DTSTART:20151025T010000
END:STANDARD
END:VTIMEZONE
BEGIN:VEVENT
DTSTART;TZID=Europe/Helsinki:20150524T140000
DTEND;TZID=Europe/Helsinki:20150524T170000
DTSTAMP:20260419T185600
CREATED:20150519T174455Z
LAST-MODIFIED:20150519T174455Z
UID:3239-1432476000-1432486800@hood-espoo.fi
SUMMARY:Kesästartti Ruskeasuolla
DESCRIPTION:Hoodin kesäkauden avaus Ruskeasuolla grillauksen ja jousiammunnan merkeissä sunnuntaina 24.5. klo 14. \nSeuran alkeisvälineet käytettävissä. Kaikki mukaan! \nGrillattavan määrän arviointia varten ilmoittautumiset Facebookkiin: https://www.facebook.com/events/682557658516698/
URL:https://hood-espoo.fi/event/kesastartti-ruskeasuolla/
LOCATION:Ruskeasuon jousiammuntarata\, Tenholanpolku\, Helsinki\, Finland
END:VEVENT
END:VCALENDAR