BEGIN:VCALENDAR
VERSION:2.0
PRODID:-//Jousiammuntaseura Robin Hood - ECPv5.14.1//NONSGML v1.0//EN
CALSCALE:GREGORIAN
METHOD:PUBLISH
X-WR-CALNAME:Jousiammuntaseura Robin Hood
X-ORIGINAL-URL:https://hood-espoo.fi
X-WR-CALDESC:Tapahtumat Jousiammuntaseura Robin Hood
BEGIN:VTIMEZONE
TZID:Europe/Helsinki
BEGIN:DAYLIGHT
TZOFFSETFROM:+0200
TZOFFSETTO:+0300
TZNAME:EEST
DTSTART:20120325T010000
END:DAYLIGHT
BEGIN:STANDARD
TZOFFSETFROM:+0300
TZOFFSETTO:+0200
TZNAME:EET
DTSTART:20121028T010000
END:STANDARD
END:VTIMEZONE
BEGIN:VEVENT
DTSTART;VALUE=DATE:20120128
DTEND;VALUE=DATE:20120129
DTSTAMP:20260423T162637
CREATED:20111218T213213Z
LAST-MODIFIED:20111218T213213Z
UID:1140-1327708800-1327795199@hood-espoo.fi
SUMMARY:Kisareissu: Arcus Turku
DESCRIPTION:Yhteinen kisareissu Turkuun Arcuksen järjestämiin 18metrin kilpailuihin. \nLähdössä ainakin: \nHelmiö Ari\nSetälä Reena\nAri Salin\nSaarhelo Laura\nKarvonen Jukka\nSetälä Jaakko\nSirkiä Marko\nHätönen Seppo\nRaivio Pertti
URL:https://hood-espoo.fi/event/kisareissu-arcus-turku/
END:VEVENT
END:VCALENDAR