BEGIN:VCALENDAR
VERSION:2.0
PRODID:-//Jousiammuntaseura Robin Hood - ECPv5.14.1//NONSGML v1.0//EN
CALSCALE:GREGORIAN
METHOD:PUBLISH
X-WR-CALNAME:Jousiammuntaseura Robin Hood
X-ORIGINAL-URL:https://hood-espoo.fi
X-WR-CALDESC:Tapahtumat Jousiammuntaseura Robin Hood
BEGIN:VTIMEZONE
TZID:Europe/Helsinki
BEGIN:DAYLIGHT
TZOFFSETFROM:+0200
TZOFFSETTO:+0300
TZNAME:EEST
DTSTART:20180325T010000
END:DAYLIGHT
BEGIN:STANDARD
TZOFFSETFROM:+0300
TZOFFSETTO:+0200
TZNAME:EET
DTSTART:20181028T010000
END:STANDARD
END:VTIMEZONE
BEGIN:VEVENT
DTSTART;TZID=Europe/Helsinki:20181109T180000
DTEND;TZID=Europe/Helsinki:20181109T200000
DTSTAMP:20260423T164911
CREATED:20181009T142925Z
LAST-MODIFIED:20181009T142925Z
UID:6128-1541786400-1541793600@hood-espoo.fi
SUMMARY:Kisatalkoot
DESCRIPTION:Kisatalkoot Syyskisaa varten.
URL:https://hood-espoo.fi/event/kisatalkoot-8/
CATEGORIES:Etusivu,Kilpailut,Talkoot
END:VEVENT
END:VCALENDAR