BEGIN:VCALENDAR
VERSION:2.0
PRODID:-//Jousiammuntaseura Robin Hood - ECPv5.14.1//NONSGML v1.0//EN
CALSCALE:GREGORIAN
METHOD:PUBLISH
X-WR-CALNAME:Jousiammuntaseura Robin Hood
X-ORIGINAL-URL:https://hood-espoo.fi/?lang=en
X-WR-CALDESC:Events for Jousiammuntaseura Robin Hood
BEGIN:VTIMEZONE
TZID:Europe/Helsinki
BEGIN:DAYLIGHT
TZOFFSETFROM:+0200
TZOFFSETTO:+0300
TZNAME:EEST
DTSTART:20180325T010000
END:DAYLIGHT
BEGIN:STANDARD
TZOFFSETFROM:+0300
TZOFFSETTO:+0200
TZNAME:EET
DTSTART:20181028T010000
END:STANDARD
END:VTIMEZONE
BEGIN:VEVENT
DTSTART;TZID=Europe/Helsinki:20180126T180000
DTEND;TZID=Europe/Helsinki:20180126T200000
DTSTAMP:20260423T174605
CREATED:20180122T193459Z
LAST-MODIFIED:20180122T193459Z
UID:5847-1516989600-1516996800@hood-espoo.fi
SUMMARY:Kisatalkoot
DESCRIPTION:Preparing the range for Tuulimäki Competition.
URL:https://hood-espoo.fi/event/kisatalkoot/?lang=en
CATEGORIES:work party
END:VEVENT
END:VCALENDAR